BEGIN:VCALENDAR
VERSION:2.0
PRODID:-//Tukios.com/
BEGIN:VEVENT
UID:509bc266-2818-4adb-860f-56c1bec3d0f0@www.frenchblasl.com
DTSTAMP:20260421T030423Z
DTSTART:20260501T170000Z
DTEND:20260501T180000Z
SUMMARY:Memorial Service
DESCRIPTION:
URL:https://www.frenchblasl.com/obituaries/george-kittle
LOCATION:West Ghent Reformed Church 1039 County Route 22  Ghent NY 12075
GEO:42.31859;-73.6981559
END:VEVENT
END:VCALENDAR