BEGIN:VCALENDAR
VERSION:2.0
PRODID:-//Tukios.com/
BEGIN:VEVENT
UID:e6619eb4-7dc7-4ff7-a09a-5e28fea560fd@www.frenchblasl.com
DTSTAMP:20260421T030715Z
DTSTART:20260501T160000Z
DTEND:20260501T170000Z
SUMMARY:Visitation
DESCRIPTION:
URL:https://www.frenchblasl.com/obituaries/george-kittle
LOCATION:West Ghent Reformed Church 1039 County Route 22  Ghent NY 12075
GEO:42.31859;-73.6981559
END:VEVENT
END:VCALENDAR