BEGIN:VCALENDAR
VERSION:2.0
PRODID:-//Tukios.com/
BEGIN:VEVENT
UID:ad18ba7b-7c21-4f56-a5fe-79ba5868dc95@www.frenchblasl.com
DTSTAMP:20260424T170947Z
DTSTART:20260501T130000Z
DTEND:20260501T144500Z
SUMMARY:Visitation
DESCRIPTION:
URL:https://www.frenchblasl.com/obituaries/michael-wolfe
LOCATION: 25 Railroad Ave  Chatham NY 12037
GEO:42.3620787;-73.5956202
END:VEVENT
END:VCALENDAR