BEGIN:VCALENDAR
VERSION:2.0
PRODID:-//Tukios.com/
BEGIN:VEVENT
UID:c456f5a9-a95c-4e8a-abec-ac1a069d7a96@www.frenchblasl.com
DTSTAMP:20260424T171500Z
DTSTART:20260501T150000Z
DTEND:20260501T160000Z
SUMMARY:Mass
DESCRIPTION:
URL:https://www.frenchblasl.com/obituaries/michael-wolfe
LOCATION:St. James Roman Catholic Church 117 Hudson Ave  Chatham NY 12037
GEO:42.3567116;-73.5998583
END:VEVENT
END:VCALENDAR